BEGIN:VCALENDAR
VERSION:2.0
PRODID:-//ASOTRAME - ECPv6.15.17.1//NONSGML v1.0//EN
CALSCALE:GREGORIAN
METHOD:PUBLISH
X-ORIGINAL-URL:https://www.asotrame.com
X-WR-CALDESC:Eventos para ASOTRAME
REFRESH-INTERVAL;VALUE=DURATION:PT1H
X-Robots-Tag:noindex
X-PUBLISHED-TTL:PT1H
BEGIN:VTIMEZONE
TZID:Europe/Madrid
BEGIN:DAYLIGHT
TZOFFSETFROM:+0100
TZOFFSETTO:+0200
TZNAME:CEST
DTSTART:20240331T010000
END:DAYLIGHT
BEGIN:STANDARD
TZOFFSETFROM:+0200
TZOFFSETTO:+0100
TZNAME:CET
DTSTART:20241027T010000
END:STANDARD
BEGIN:DAYLIGHT
TZOFFSETFROM:+0100
TZOFFSETTO:+0200
TZNAME:CEST
DTSTART:20250330T010000
END:DAYLIGHT
BEGIN:STANDARD
TZOFFSETFROM:+0200
TZOFFSETTO:+0100
TZNAME:CET
DTSTART:20251026T010000
END:STANDARD
BEGIN:DAYLIGHT
TZOFFSETFROM:+0100
TZOFFSETTO:+0200
TZNAME:CEST
DTSTART:20260329T010000
END:DAYLIGHT
BEGIN:STANDARD
TZOFFSETFROM:+0200
TZOFFSETTO:+0100
TZNAME:CET
DTSTART:20261025T010000
END:STANDARD
END:VTIMEZONE
BEGIN:VEVENT
DTSTART;VALUE=DATE:20250620
DTEND;VALUE=DATE:20250719
DTSTAMP:20260415T082040
CREATED:20250623T200327Z
LAST-MODIFIED:20250904T164921Z
UID:2927-1750377600-1752883199@www.asotrame.com
SUMMARY:Exposición temporal
DESCRIPTION:Nuestra exposición temporal “La piel como testigo: entre la vida y su herida» puede visitarse hasta mediados de julio en el hall del Hospital Clínico de Santiago. Se trata de una muestra\, que impulsamos con el apoyo de Sanofi\, que pone cara y da voz a quienes conviven a diario con la enfermedad injerto contra receptor\, la EICR. Las fotos llevan la firma de Xosé Durán\, que colabora desinteresadamente en la iniciativa.
URL:https://www.asotrame.com/event/exposicion-temporal/
CATEGORIES:General
ATTACH;FMTTYPE=image/jpeg:https://www.asotrame.com/wp-content/uploads/2025/06/exposicion-temporal.jpg
END:VEVENT
BEGIN:VEVENT
DTSTART;TZID=Europe/Madrid:20250704T093000
DTEND;TZID=Europe/Madrid:20250704T143000
DTSTAMP:20260415T082040
CREATED:20250701T062008Z
LAST-MODIFIED:20250701T062008Z
UID:2939-1751621400-1751639400@www.asotrame.com
SUMMARY:Asotrame en el Clínico de Santiago
DESCRIPTION:Asotrame acercará como cada viernes información al Hospital Clínico de Santiago información sobre sus servicios y programas (Atención psicosocial\, Apoyo entre iguales…) y también sobre el proceso de donación médula ósea. Personal técnico de la entidad estará durante toda la mañana en el centro brindando además soporte emocional a pacientes de cáncer hematológico y sus familiares.
URL:https://www.asotrame.com/event/asotrame-clinico/
CATEGORIES:General
ATTACH;FMTTYPE=image/jpeg:https://www.asotrame.com/wp-content/uploads/2025/02/atencion-presencial-CHUS.jpg
END:VEVENT
BEGIN:VEVENT
DTSTART;TZID=Europe/Madrid:20250707T100000
DTEND;TZID=Europe/Madrid:20250707T130000
DTSTAMP:20260415T082040
CREATED:20250707T065120Z
LAST-MODIFIED:20250707T065120Z
UID:2981-1751882400-1751893200@www.asotrame.com
SUMMARY:Atención en el HULA
DESCRIPTION:Asotrame ofrecerá este lunes atención presencial en el HULA. Nuestra psicóloga\, Ivana Iglesias\, informará a quienes se acerquen al Espazo asociativo del Hospital Universitario Lucus Augusti (4ª planta) sobre la donación de médula ósea y los servicios que\, desde la asociación\, ponemos a disposición de las personas enfermas de cáncer hematológico y sus familiares.
URL:https://www.asotrame.com/event/atencion-hula-julio/
CATEGORIES:General
ATTACH;FMTTYPE=image/jpeg:https://www.asotrame.com/wp-content/uploads/2025/02/atencion-HULA.jpg
END:VEVENT
BEGIN:VEVENT
DTSTART;TZID=Europe/Madrid:20250711T093000
DTEND;TZID=Europe/Madrid:20250711T143000
DTSTAMP:20260415T082040
CREATED:20250710T201950Z
LAST-MODIFIED:20250710T201950Z
UID:2997-1752226200-1752244200@www.asotrame.com
SUMMARY:Atención en el CHUS
DESCRIPTION:Este viernes Asotrame tendrá atención en el Espacio asociativo del CHUS. Nuestra psicóloga estará durante toda la mañana en el Hospital Clínico de Santiago para ofrecer información sobre los programas y servicios de la asociación y ofrecer apoyo psicosocial a pacientes de cáncer hematológico y familiares.
URL:https://www.asotrame.com/event/atencion-en-chus-2/
CATEGORIES:General
ATTACH;FMTTYPE=image/jpeg:https://www.asotrame.com/wp-content/uploads/2025/02/atencion-hospital-clinico-Santiago.jpg
END:VEVENT
BEGIN:VEVENT
DTSTART;TZID=Europe/Madrid:20250716T093000
DTEND;TZID=Europe/Madrid:20250716T103000
DTSTAMP:20260415T082040
CREATED:20250715T205033Z
LAST-MODIFIED:20250715T205033Z
UID:3017-1752658200-1752661800@www.asotrame.com
SUMMARY:Oncoyoga en Narón
DESCRIPTION:Últimas sesiones de la temporada de oncoyoga en Narón. De la mano de Ana Freire\, Asotrame ofrece cada miércoles una sesión de yoga adaptado a pacientes y expacientes de cáncer\, de la que también se pueden beneficiar familiares. La iniciativa tiene lugar en las instalaciones de Samsara Integral Yoga y persigue mejorar el bienestar físico y emocional de las personas usuarias.
URL:https://www.asotrame.com/event/oncoyoga-naron-julio/
CATEGORIES:General
ATTACH;FMTTYPE=image/jpeg:https://www.asotrame.com/wp-content/uploads/2025/02/oncoyoga-en-Samsara.jpg
END:VEVENT
BEGIN:VEVENT
DTSTART;TZID=Europe/Madrid:20250716T110000
DTEND;TZID=Europe/Madrid:20250716T130000
DTSTAMP:20260415T082040
CREATED:20250715T201700Z
LAST-MODIFIED:20250715T201700Z
UID:3011-1752663600-1752670800@www.asotrame.com
SUMMARY:Asotrame en el CHUAC
DESCRIPTION:Asotrame estará este miércoles en el CHUAC. La educadora social de la entidad se acercará al Hospital de día oncohematológico para acompañar y ofrecer información a pacientes de cáncer hematológico y sus familiares sobre los servicios que impulsa la asociación para mejorar su calidad de vida.
URL:https://www.asotrame.com/event/asotrame-chuac-julio/
CATEGORIES:General
ATTACH;FMTTYPE=image/jpeg:https://www.asotrame.com/wp-content/uploads/2025/07/apoyo-psicosocial.jpg
END:VEVENT
BEGIN:VEVENT
DTSTART;TZID=Europe/Madrid:20250718T090000
DTEND;TZID=Europe/Madrid:20250718T140000
DTSTAMP:20260415T082040
CREATED:20250715T202822Z
LAST-MODIFIED:20250715T202822Z
UID:3014-1752829200-1752847200@www.asotrame.com
SUMMARY:Atención en el centro sociocultural Santa Marta
DESCRIPTION:El Centro sociocultural Santa Marta abre sus puertas este viernes a Asotrame. El equipo que lidera el servicio de atención psicosocial de Asotrame- trabajadora social y psicóloga- ofrecerá en este punto\, situado a un paso del Hospital Clínico de Santiago\, información sobre servicios y recursos sociales\, además de brindar apoyo emocional a pacientes de cáncer hematológico y a familiares que lo demanden.
URL:https://www.asotrame.com/event/asotrame-centro-santa-marta/
CATEGORIES:General
ATTACH;FMTTYPE=image/jpeg:https://www.asotrame.com/wp-content/uploads/2025/07/centro-sociocultural-Santa-Marta.jpg
END:VEVENT
END:VCALENDAR