BEGIN:VCALENDAR
VERSION:2.0
PRODID:-//ASOTRAME - ECPv6.15.17.1//NONSGML v1.0//EN
CALSCALE:GREGORIAN
METHOD:PUBLISH
X-WR-CALNAME:ASOTRAME
X-ORIGINAL-URL:https://www.asotrame.com
X-WR-CALDESC:Eventos para ASOTRAME
REFRESH-INTERVAL;VALUE=DURATION:PT1H
X-Robots-Tag:noindex
X-PUBLISHED-TTL:PT1H
BEGIN:VTIMEZONE
TZID:Europe/Madrid
BEGIN:DAYLIGHT
TZOFFSETFROM:+0100
TZOFFSETTO:+0200
TZNAME:CEST
DTSTART:20240331T010000
END:DAYLIGHT
BEGIN:STANDARD
TZOFFSETFROM:+0200
TZOFFSETTO:+0100
TZNAME:CET
DTSTART:20241027T010000
END:STANDARD
BEGIN:DAYLIGHT
TZOFFSETFROM:+0100
TZOFFSETTO:+0200
TZNAME:CEST
DTSTART:20250330T010000
END:DAYLIGHT
BEGIN:STANDARD
TZOFFSETFROM:+0200
TZOFFSETTO:+0100
TZNAME:CET
DTSTART:20251026T010000
END:STANDARD
BEGIN:DAYLIGHT
TZOFFSETFROM:+0100
TZOFFSETTO:+0200
TZNAME:CEST
DTSTART:20260329T010000
END:DAYLIGHT
BEGIN:STANDARD
TZOFFSETFROM:+0200
TZOFFSETTO:+0100
TZNAME:CET
DTSTART:20261025T010000
END:STANDARD
END:VTIMEZONE
BEGIN:VEVENT
DTSTART;VALUE=DATE:20251022
DTEND;VALUE=DATE:20251201
DTSTAMP:20260418T123413
CREATED:20251028T205956Z
LAST-MODIFIED:20251028T210127Z
UID:3316-1761091200-1764547199@www.asotrame.com
SUMMARY:Exposición: "La piel como testigo"
DESCRIPTION:El Hospital Álvaro Cunqueiro acoge la muestra itinerante «La piel como testigo: entre la vida y su herida» con la que desde Asotrame nos acercamos a la realidad de los pacientes con enfermedad injerto contra receptor (EICR)\, una patología asociada a los trasplantes de médula ósea de donante\, así como a las personas de su entorno familiar. Puede visitarse en la tercera planta de este centro público (vela B).
URL:https://www.asotrame.com/event/la-piel-como-testigo/
CATEGORIES:General
ATTACH;FMTTYPE=image/png:https://www.asotrame.com/wp-content/uploads/2025/06/EXPOSICION-ASOTRAME.png
END:VEVENT
BEGIN:VEVENT
DTSTART;TZID=Europe/Madrid:20251105T093000
DTEND;TZID=Europe/Madrid:20251105T103000
DTSTAMP:20260418T123413
CREATED:20251028T230859Z
LAST-MODIFIED:20251028T230859Z
UID:3343-1762335000-1762338600@www.asotrame.com
SUMMARY:Oncoyoga
DESCRIPTION:Nueva entrega del programa de oncoyoga en Narón. De la mano de una monitora especializada\, Asotrame organiza cada miércoles una sesión de yoga adaptado a pacientes y expacientes de cáncer\, y también para sus familiares. Se trata de una iniciativa gratuita\, que se lleva a cabo en las instalaciones de Samsara Integral Yoga\, y que busca contribuir a mejorar el bienestar físico y emocional de las personas participantes. La actividad requiere inscripción previa.
URL:https://www.asotrame.com/event/oncoyoga-en-naron/
CATEGORIES:General
ATTACH;FMTTYPE=image/jpeg:https://www.asotrame.com/wp-content/uploads/2025/10/oncoyoga-setembro-2025.jpg
END:VEVENT
END:VCALENDAR