BEGIN:VCALENDAR
VERSION:2.0
PRODID:-//ASOTRAME - ECPv6.15.17.1//NONSGML v1.0//EN
CALSCALE:GREGORIAN
METHOD:PUBLISH
X-ORIGINAL-URL:https://www.asotrame.com
X-WR-CALDESC:Eventos para ASOTRAME
REFRESH-INTERVAL;VALUE=DURATION:PT1H
X-Robots-Tag:noindex
X-PUBLISHED-TTL:PT1H
BEGIN:VTIMEZONE
TZID:Europe/Madrid
BEGIN:DAYLIGHT
TZOFFSETFROM:+0100
TZOFFSETTO:+0200
TZNAME:CEST
DTSTART:20240331T010000
END:DAYLIGHT
BEGIN:STANDARD
TZOFFSETFROM:+0200
TZOFFSETTO:+0100
TZNAME:CET
DTSTART:20241027T010000
END:STANDARD
BEGIN:DAYLIGHT
TZOFFSETFROM:+0100
TZOFFSETTO:+0200
TZNAME:CEST
DTSTART:20250330T010000
END:DAYLIGHT
BEGIN:STANDARD
TZOFFSETFROM:+0200
TZOFFSETTO:+0100
TZNAME:CET
DTSTART:20251026T010000
END:STANDARD
BEGIN:DAYLIGHT
TZOFFSETFROM:+0100
TZOFFSETTO:+0200
TZNAME:CEST
DTSTART:20260329T010000
END:DAYLIGHT
BEGIN:STANDARD
TZOFFSETFROM:+0200
TZOFFSETTO:+0100
TZNAME:CET
DTSTART:20261025T010000
END:STANDARD
END:VTIMEZONE
BEGIN:VEVENT
DTSTART;VALUE=DATE:20250620
DTEND;VALUE=DATE:20250719
DTSTAMP:20260420T201930
CREATED:20250623T200327Z
LAST-MODIFIED:20250904T164921Z
UID:2927-1750377600-1752883199@www.asotrame.com
SUMMARY:Exposición temporal
DESCRIPTION:Nuestra exposición temporal “La piel como testigo: entre la vida y su herida» puede visitarse hasta mediados de julio en el hall del Hospital Clínico de Santiago. Se trata de una muestra\, que impulsamos con el apoyo de Sanofi\, que pone cara y da voz a quienes conviven a diario con la enfermedad injerto contra receptor\, la EICR. Las fotos llevan la firma de Xosé Durán\, que colabora desinteresadamente en la iniciativa.
URL:https://www.asotrame.com/event/exposicion-temporal/
CATEGORIES:General
ATTACH;FMTTYPE=image/jpeg:https://www.asotrame.com/wp-content/uploads/2025/06/exposicion-temporal.jpg
END:VEVENT
END:VCALENDAR