BEGIN:VCALENDAR
VERSION:2.0
PRODID:-//ASOTRAME - ECPv6.15.17.1//NONSGML v1.0//EN
CALSCALE:GREGORIAN
METHOD:PUBLISH
X-ORIGINAL-URL:https://www.asotrame.com
X-WR-CALDESC:Eventos para ASOTRAME
REFRESH-INTERVAL;VALUE=DURATION:PT1H
X-Robots-Tag:noindex
X-PUBLISHED-TTL:PT1H
BEGIN:VTIMEZONE
TZID:Europe/Madrid
BEGIN:DAYLIGHT
TZOFFSETFROM:+0100
TZOFFSETTO:+0200
TZNAME:CEST
DTSTART:20240331T010000
END:DAYLIGHT
BEGIN:STANDARD
TZOFFSETFROM:+0200
TZOFFSETTO:+0100
TZNAME:CET
DTSTART:20241027T010000
END:STANDARD
BEGIN:DAYLIGHT
TZOFFSETFROM:+0100
TZOFFSETTO:+0200
TZNAME:CEST
DTSTART:20250330T010000
END:DAYLIGHT
BEGIN:STANDARD
TZOFFSETFROM:+0200
TZOFFSETTO:+0100
TZNAME:CET
DTSTART:20251026T010000
END:STANDARD
BEGIN:DAYLIGHT
TZOFFSETFROM:+0100
TZOFFSETTO:+0200
TZNAME:CEST
DTSTART:20260329T010000
END:DAYLIGHT
BEGIN:STANDARD
TZOFFSETFROM:+0200
TZOFFSETTO:+0100
TZNAME:CET
DTSTART:20261025T010000
END:STANDARD
END:VTIMEZONE
BEGIN:VEVENT
DTSTART;TZID=Europe/Madrid:20251017T093000
DTEND;TZID=Europe/Madrid:20251017T133000
DTSTAMP:20260420T161034
CREATED:20251029T191544Z
LAST-MODIFIED:20251029T200729Z
UID:3364-1760693400-1760707800@www.asotrame.com
SUMMARY:Atención en el centro sociocultural Santa Marta
DESCRIPTION:El Centro sociocultural Santa Marta abre sus puertas este viernes a Asotrame. El equipo que lidera el servicio de atención psicosocial de Asotrame- trabajadora social y psicóloga- ofrecerá en este punto\, situado a un paso del Hospital Clínico de Santiago\, información sobre servicios y recursos sociales\, además de brindar apoyo emocional a pacientes de cáncer hematológico y a familiares que lo demanden.
URL:https://www.asotrame.com/event/atencion-santa-marta/
CATEGORIES:General
ATTACH;FMTTYPE=image/jpeg:https://www.asotrame.com/wp-content/uploads/2025/07/centro-sociocultural-Santa-Marta.jpg
END:VEVENT
END:VCALENDAR